BEGIN:VCALENDAR
VERSION:2.0
PRODID:-//Squarespace Inc/Squarespace 6//v6//EN
BEGIN:VEVENT
UID:5e41c7cd2a2f8359fc5cd7bd@squarespace.com
DTSTAMP:20200210T211612Z
DTSTART:20200727T223000Z
DTEND:20200801T233000Z
SUMMARY:Pacific Dawn\, P&amp\;O Cruises
END:VEVENT
END:VCALENDAR
