BEGIN:VCALENDAR
VERSION:2.0
PRODID:-//Squarespace Inc/Squarespace 6//v6//EN
BEGIN:VEVENT
UID:5e41c7a473b8a7233f3b50ba@squarespace.com
DTSTAMP:20200210T211443Z
DTSTART:20200530T223000Z
DTEND:20200530T233000Z
SUMMARY:Ronald McDonald House Charities 
END:VEVENT
END:VCALENDAR
