BEGIN:VCALENDAR
VERSION:2.0
PRODID:-//Squarespace Inc/Squarespace 6//v6//EN
BEGIN:VEVENT
UID:5e41c78abb908b10d51484cb@squarespace.com
DTSTAMP:20200210T211402Z
DTSTART:20200523T223000Z
DTEND:20200523T233000Z
SUMMARY:Private Function
END:VEVENT
END:VCALENDAR
