BEGIN:VCALENDAR
VERSION:2.0
PRODID:-//Squarespace Inc/Squarespace 6//v6//EN
BEGIN:VEVENT
UID:5e41c74c99c29a4ba56345e2@squarespace.com
DTSTAMP:20200210T211333Z
DTSTART:20200521T223000Z
DTEND:20200524T233000Z
SUMMARY:Pacific Dawn\, P&amp\;O Cruises
END:VEVENT
END:VCALENDAR
