BEGIN:VCALENDAR
VERSION:2.0
PRODID:-//Squarespace Inc/Squarespace 6//v6//EN
BEGIN:VEVENT
UID:5e70212c55b7d345160adf53@squarespace.com
DTSTAMP:20200317T010108Z
DTSTART:20200517T023000Z
DTEND:20200520T033000Z
SUMMARY:Pacific Aria\, P&amp\;O Cruises
END:VEVENT
END:VCALENDAR
