BEGIN:VCALENDAR
VERSION:2.0
PRODID:-//Squarespace Inc/Squarespace 6//v6//EN
BEGIN:VEVENT
UID:5e41c6f7b8fbb2561f949951@squarespace.com
DTSTAMP:20200210T211145Z
DTSTART:20200406T223000Z
DTEND:20200412T233000Z
SUMMARY:Pacific Aria\, P&amp\;O Cruises
END:VEVENT
END:VCALENDAR
