BEGIN:VCALENDAR
VERSION:2.0
PRODID:-//Squarespace Inc/Squarespace 6//v6//EN
BEGIN:VEVENT
UID:5e41c72296114b70f6bfc19c@squarespace.com
DTSTAMP:20200210T211232Z
DTSTART:20200422T223000Z
DTEND:20200430T233000Z
SUMMARY:Pacific Aria\, P&amp\;O Cruises
END:VEVENT
END:VCALENDAR
