BEGIN:VCALENDAR
VERSION:2.0
PRODID:-//Squarespace Inc/Squarespace 6//v6//EN
BEGIN:VEVENT
UID:5e41c6d02a2f8359fc5c8f5e@squarespace.com
DTSTAMP:20200210T211109Z
DTSTART:20200319T213000Z
DTEND:20200323T223000Z
SUMMARY:Pacific Aria\, P&amp\;O Cruises
END:VEVENT
END:VCALENDAR
