BEGIN:VCALENDAR
VERSION:2.0
PRODID:-//Squarespace Inc/Squarespace 6//v6//EN
BEGIN:VEVENT
UID:5d8408bb4745226d845d22f3@squarespace.com
DTSTAMP:20200210T210232Z
DTSTART:20200223T233000Z
DTEND:20200304T013000Z
SUMMARY:Queen Mary 2\, Cunard Cruiseline
END:VEVENT
END:VCALENDAR
