BEGIN:VCALENDAR
VERSION:2.0
PRODID:-//Squarespace Inc/Squarespace 6//v6//EN
BEGIN:VEVENT
UID:5d37ce84371dfc0001bab187@squarespace.com
DTSTAMP:20190724T032613Z
DTSTART:20200217T210000Z
DTEND:20200221T130000Z
SUMMARY:Pacific Aria\, P&amp\;O Cruises
END:VEVENT
END:VCALENDAR
