BEGIN:VCALENDAR
VERSION:2.0
PRODID:-//Squarespace Inc/Squarespace 6//v6//EN
BEGIN:VEVENT
UID:5e41c42ee66ab4774eb9e8af@squarespace.com
DTSTAMP:20200210T210038Z
DTSTART:20200214T210000Z
DTEND:20200219T220000Z
SUMMARY:Pacific Princess\, Princess Cruises
END:VEVENT
END:VCALENDAR
