BEGIN:VCALENDAR
VERSION:2.0
PRODID:-//Squarespace Inc/Squarespace 6//v6//EN
BEGIN:VEVENT
UID:5d37c499129abb0001fd90b0@squarespace.com
DTSTAMP:20190724T023947Z
DTSTART:20190928T000000Z
DTEND:20190928T010000Z
SUMMARY:Port Fairy Vintage Weekend
GEO:-38.381012;142.229291
LOCATION:Port Fairy\, Australia
END:VEVENT
END:VCALENDAR
