BEGIN:VCALENDAR
VERSION:2.0
PRODID:-//Squarespace Inc/Squarespace 6//v6//EN
BEGIN:VEVENT
UID:5d37c3dcd7f7390001713fed@squarespace.com
DTSTAMP:20190724T023611Z
DTSTART:20190806T170000Z
DTEND:20190806T220000Z
SUMMARY:Michael Hill 40th Birthday
GEO:-37.815207;144.963937
LOCATION:Michael Hill\, 3000\, VIC\, Australia
END:VEVENT
END:VCALENDAR
