BEGIN:VCALENDAR
VERSION:2.0
PRODID:-//Squarespace Inc/Squarespace 6//v6//EN
BEGIN:VEVENT
UID:5d1468081d614700011b9342@squarespace.com
DTSTAMP:20190627T065452Z
DTSTART:20190830T230000Z
DTEND:20190831T000000Z
SUMMARY:Wedding\, Margan Winery\, HUNTER VALLEY
END:VEVENT
END:VCALENDAR
