BEGIN:VCALENDAR
VERSION:2.0
PRODID:-//Squarespace Inc/Squarespace 6//v6//EN
BEGIN:VEVENT
UID:5d1467da37b38c0001501a3a@squarespace.com
DTSTAMP:20190724T032653Z
DTSTART:20190820T200000Z
DTEND:20190824T210000Z
SUMMARY:PACIFIC EXPLORER\, P&amp\;O CRUISES
END:VEVENT
END:VCALENDAR
