BEGIN:VCALENDAR
VERSION:2.0
PRODID:-//Squarespace Inc/Squarespace 6//v6//EN
BEGIN:VEVENT
UID:5d14673ca7848a000184bfbb@squarespace.com
DTSTAMP:20190627T065216Z
DTSTART:20190706T170000Z
DTEND:20190706T173000Z
SUMMARY:Convention Centre\, Sydney
END:VEVENT
END:VCALENDAR
