BEGIN:VCALENDAR
VERSION:2.0
PRODID:-//Squarespace Inc/Squarespace 6//v6//EN
BEGIN:VEVENT
UID:5d1467a95f51040001b8abec@squarespace.com
DTSTAMP:20190627T065637Z
DTSTART:20190727T220000Z
DTEND:20190727T230000Z
SUMMARY:Corporate Event\, Sydney
END:VEVENT
END:VCALENDAR
