BEGIN:VCALENDAR
VERSION:2.0
PRODID:-//Squarespace Inc/Squarespace 6//v6//EN
BEGIN:VEVENT
UID:5d2d7d6ec29fde0001eb4487@squarespace.com
DTSTAMP:20190716T073234Z
DTSTART:20190726T210000Z
DTEND:20190726T220000Z
SUMMARY:Mecca Christmas in July Party
END:VEVENT
END:VCALENDAR
