BEGIN:VCALENDAR
VERSION:2.0
PRODID:-//Squarespace Inc/Squarespace 6//v6//EN
BEGIN:VEVENT
UID:5d1466f537b38c000150119a@squarespace.com
DTSTAMP:20190627T065023Z
DTSTART:20190629T213000Z
DTEND:20190629T223000Z
SUMMARY:Private Event at Tonic Bar\, Crown Casino
END:VEVENT
END:VCALENDAR
