BEGIN:VCALENDAR
VERSION:2.0
PRODID:-//Squarespace Inc/Squarespace 6//v6//EN
BEGIN:VEVENT
UID:5cb159d3f4e1fc911a2970fc@squarespace.com
DTSTAMP:20190413T034003Z
DTSTART:20190601T220000Z
DTEND:20190602T030000Z
SUMMARY:Ronald McDonald Charity Ball
GEO:-19.25648;146.770808
LOCATION:Townsville Airport\, QLD
END:VEVENT
END:VCALENDAR
