BEGIN:VCALENDAR
VERSION:2.0
PRODID:-//Squarespace Inc/Squarespace 6//v6//EN
BEGIN:VEVENT
UID:5c80ad26971a1811b3f8811d@squarespace.com
DTSTAMP:20190322T085241Z
DTSTART:20190518T190000Z
DTEND:20190518T200000Z
SUMMARY:Private Function
GEO:40.720756;-74.000761
LOCATION:Sydney Winery
END:VEVENT
END:VCALENDAR
