BEGIN:VCALENDAR
VERSION:2.0
PRODID:-//Squarespace Inc/Squarespace 6//v6//EN
BEGIN:VEVENT
UID:5c949f3fe79c703f727f29fd@squarespace.com
DTSTAMP:20190322T085356Z
DTSTART:20190525T170000Z
DTEND:20190525T190000Z
SUMMARY:Private Function
END:VEVENT
END:VCALENDAR
