BEGIN:VCALENDAR
VERSION:2.0
PRODID:-//Squarespace Inc/Squarespace 6//v6//EN
BEGIN:VEVENT
UID:5c94a317e4966bad92319c1a@squarespace.com
DTSTAMP:20190322T093931Z
DTSTART:20190617T040000Z
DTEND:20190621T230000Z
SUMMARY:Pacific Aria\, P &amp\; O Cruises
END:VEVENT
END:VCALENDAR
