BEGIN:VCALENDAR
VERSION:2.0
PRODID:-//Squarespace Inc/Squarespace 6//v6//EN
BEGIN:VEVENT
UID:5c3e578e758d46a3548ec8b4@squarespace.com
DTSTAMP:20190115T215921Z
DTSTART:20190309T230000Z
DTEND:20190312T230000Z
SUMMARY:The Pacific Eden\, P&amp\;O Cruises (Adelaide-Adelaide)
END:VEVENT
END:VCALENDAR
