BEGIN:VCALENDAR
VERSION:2.0
PRODID:-//Squarespace Inc/Squarespace 6//v6//EN
BEGIN:VEVENT
UID:5c80a9d8971a1811b3f86683@squarespace.com
DTSTAMP:20190307T052055Z
DTSTART:20190430T143000Z
DTEND:20190504T153000Z
SUMMARY:Pacific Explorer\, P&amp\;O Cruises (Sydney-Port Vila)
END:VEVENT
END:VCALENDAR
