BEGIN:VCALENDAR
VERSION:2.0
PRODID:-//Squarespace Inc/Squarespace 6//v6//EN
BEGIN:VEVENT
UID:5c80aa444785d342b6de48ab@squarespace.com
DTSTAMP:20190307T053309Z
DTSTART:20190510T003000Z
DTEND:20190510T023000Z
SUMMARY:Australian Higher Education Industrial Association Event 
GEO:40.720756;-74.000761
LOCATION:Melbourne Town Hall
END:VEVENT
END:VCALENDAR
