BEGIN:VCALENDAR
VERSION:2.0
PRODID:-//Squarespace Inc/Squarespace 6//v6//EN
BEGIN:VEVENT
UID:5c80abb89140b7124b92c09a@squarespace.com
DTSTAMP:20190307T053231Z
DTSTART:20190425T173000Z
DTEND:20190425T183000Z
SUMMARY:ANZAC DAY
GEO:40.720756;-74.000761
LOCATION:Phillip Island RSL
END:VEVENT
END:VCALENDAR
