BEGIN:VCALENDAR
VERSION:2.0
PRODID:-//Squarespace Inc/Squarespace 6//v6//EN
BEGIN:VEVENT
UID:5c94a2be9b747a740b39bc84@squarespace.com
DTSTAMP:20190322T093914Z
DTSTART:20190523T050000Z
DTEND:20190527T180000Z
SUMMARY:Pacific Aria\, P &amp\; O Cruises 
END:VEVENT
END:VCALENDAR
