BEGIN:VCALENDAR
VERSION:2.0
PRODID:-//Squarespace Inc/Squarespace 6//v6//EN
BEGIN:VEVENT
UID:5c5d094ca4222f3c564cb0b1@squarespace.com
DTSTAMP:20190208T044725Z
DTSTART:20190316T160000Z
DTEND:20190322T040000Z
SUMMARY:The Pacific Explorer\, P&amp\;O Cruises (Port Vila-Sydney)
END:VEVENT
END:VCALENDAR
