BEGIN:VCALENDAR
VERSION:2.0
PRODID:-//Squarespace Inc/Squarespace 6//v6//EN
BEGIN:VEVENT
UID:5c05c4e66d2a73f7fd0fc12e@squarespace.com
DTSTAMP:20190115T215953Z
DTSTART:20190201T133000Z
DTEND:20190204T143000Z
SUMMARY:The Pacific Aria\, P&amp\;O Cruises (Brisbane-Brisbane)
GEO:-27.469771;153.025124
LOCATION:Brisbane\, Australia
END:VEVENT
END:VCALENDAR
