BEGIN:VCALENDAR
VERSION:2.0
PRODID:-//Squarespace Inc/Squarespace 6//v6//EN
BEGIN:VEVENT
UID:5d37c61b5fa8c5000158b11d@squarespace.com
DTSTAMP:20190724T033229Z
DTSTART:20191230T210000Z
DTEND:20200103T130000Z
SUMMARY:Pacific Explorer\, P&amp\;O Cruises
END:VEVENT
END:VCALENDAR
