BEGIN:VCALENDAR
VERSION:2.0
PRODID:-//Squarespace Inc/Squarespace 6//v6//EN
BEGIN:VEVENT
UID:5d37c5cab1e21a0001a46001@squarespace.com
DTSTAMP:20190724T033157Z
DTSTART:20191201T170000Z
DTEND:20191205T180000Z
SUMMARY:Pacific Explorer\, P&amp\;O Cruises
END:VEVENT
END:VCALENDAR
