BEGIN:VCALENDAR
VERSION:2.0
PRODID:-//Squarespace Inc/Squarespace 6//v6//EN
BEGIN:VEVENT
UID:5d37c51f129abb0001fd97ea@squarespace.com
DTSTAMP:20190724T032910Z
DTSTART:20191108T190000Z
DTEND:20191115T110000Z
SUMMARY:Pacific Aria\, P&amp\;O Cruises
END:VEVENT
END:VCALENDAR
