BEGIN:VCALENDAR
VERSION:2.0
PRODID:-//Squarespace Inc/Squarespace 6//v6//EN
BEGIN:VEVENT
UID:5d840891ed2045077f7cf87d@squarespace.com
DTSTAMP:20190919T230051Z
DTSTART:20191123T233000Z
DTEND:20191124T003000Z
SUMMARY:Private Function
END:VEVENT
END:VCALENDAR
