BEGIN:VCALENDAR
VERSION:2.0
PRODID:-//Squarespace Inc/Squarespace 6//v6//EN
BEGIN:VEVENT
UID:5d1469231f93110001271bf7@squarespace.com
DTSTAMP:20190627T070023Z
DTSTART:20191119T170000Z
DTEND:20191119T180000Z
SUMMARY:Twin Towns Services Club\, Coolonagatta
END:VEVENT
END:VCALENDAR
