BEGIN:VCALENDAR
VERSION:2.0
PRODID:-//Squarespace Inc/Squarespace 6//v6//EN
BEGIN:VEVENT
UID:5d1468d00c36f200010563b7@squarespace.com
DTSTAMP:20191015T214016Z
DTSTART:20191118T180000Z
DTEND:20191127T190000Z
SUMMARY:MAASDAM\, HOLLAND AMERICA CRUISELINE
END:VEVENT
END:VCALENDAR
