BEGIN:VCALENDAR
VERSION:2.0
PRODID:-//Squarespace Inc/Squarespace 6//v6//EN
BEGIN:VEVENT
UID:5d1468f14669220001212af7@squarespace.com
DTSTAMP:20190724T032752Z
DTSTART:20191007T200000Z
DTEND:20191011T120000Z
SUMMARY:PACIFIC EXPLORER\, P&amp\;O CRUISES
END:VEVENT
END:VCALENDAR
