BEGIN:VCALENDAR
VERSION:2.0
PRODID:-//Squarespace Inc/Squarespace 6//v6//EN
BEGIN:VEVENT
UID:5d14684f4aeffa00013b7bab@squarespace.com
DTSTAMP:20190724T032835Z
DTSTART:20191018T060000Z
DTEND:20191025T070000Z
SUMMARY:PACIFIC ARIA\, P&amp\;O Cruises
END:VEVENT
END:VCALENDAR
