BEGIN:VCALENDAR
VERSION:2.0
PRODID:-//Squarespace Inc/Squarespace 6//v6//EN
BEGIN:VEVENT
UID:5d7465ed78bc271b5049cef7@squarespace.com
DTSTAMP:20190908T022301Z
DTSTART:20191012T223000Z
DTEND:20191012T233000Z
SUMMARY:Sydney Harbour Cruise
END:VEVENT
END:VCALENDAR
