BEGIN:VCALENDAR
VERSION:2.0
PRODID:-//Squarespace Inc/Squarespace 6//v6//EN
BEGIN:VEVENT
UID:5c3e56bc0e2e724a44525988@squarespace.com
DTSTAMP:20190125T073916Z
DTSTART:20190201T000000Z
DTEND:20190201T010000Z
SUMMARY:Private event at Grange Cleveland Winery
END:VEVENT
END:VCALENDAR
