BEGIN:VCALENDAR
VERSION:2.0
PRODID:-//Squarespace Inc/Squarespace 6//v6//EN
BEGIN:VEVENT
UID:5bc7e19371c10b540c6aeeea@squarespace.com
DTSTAMP:20181204T000542Z
DTSTART:20181209T013000Z
DTEND:20181212T023000Z
SUMMARY:The Pacific Jewel\, P&amp\;O Cruises (Melbourne)
GEO:-37.813628;144.963058
LOCATION:Melbourne
END:VEVENT
END:VCALENDAR
