BEGIN:VCALENDAR
VERSION:2.0
PRODID:-//Squarespace Inc/Squarespace 6//v6//EN
BEGIN:VEVENT
UID:5be02c914ae2373920f3290d@squarespace.com
DTSTAMP:20181105T114755Z
DTSTART:20181204T170000Z
DTEND:20181204T173000Z
SUMMARY:Town Hall Performance with The Legacy Army Band
END:VEVENT
END:VCALENDAR
