BEGIN:VCALENDAR
VERSION:2.0
PRODID:-//Squarespace Inc/Squarespace 6//v6//EN
BEGIN:VEVENT
UID:5bc7e1baf9619af54365b608@squarespace.com
DTSTAMP:20181105T105319Z
DTSTART:20181231T013000Z
DTEND:20190104T023000Z
SUMMARY:The Pacific Dawn\, P&amp\;O Cruises (Brisbane-Noumea)
GEO:-27.469771;153.025124
LOCATION:Brisbane
END:VEVENT
END:VCALENDAR
