BEGIN:VCALENDAR
VERSION:2.0
PRODID:-//Squarespace Inc/Squarespace 6//v6//EN
BEGIN:VEVENT
UID:5be021308a922de6f7c4135f@squarespace.com
DTSTAMP:20181105T105812Z
DTSTART:20181221T230000Z
DTEND:20181222T010000Z
SUMMARY:Corporate Function
GEO:-37.813654;144.969673
LOCATION:The Grand Hyatt\, 123 Little Collins Street\, Melbourne\, VIC\, 30
 00\, Australia
END:VEVENT
END:VCALENDAR
