BEGIN:VCALENDAR
VERSION:2.0
PRODID:-//Squarespace Inc/Squarespace 6//v6//EN
BEGIN:VEVENT
UID:5be01d38aa4a999c65a9cf56@squarespace.com
DTSTAMP:20181105T103939Z
DTSTART:20181215T230000Z
DTEND:20181216T020000Z
SUMMARY:Christmas Carols 
END:VEVENT
END:VCALENDAR
