BEGIN:VCALENDAR
VERSION:2.0
PRODID:-//Squarespace Inc/Squarespace 6//v6//EN
BEGIN:VEVENT
UID:5bc7e130e4966b389590867a@squarespace.com
DTSTAMP:20181105T115317Z
DTSTART:20181110T013000Z
DTEND:20181110T023000Z
SUMMARY:Anniversary Remembrance Day Gala Dance
GEO:-37.880026;147.9859
LOCATION:Mechanics Hall\, Lakes Entrance
END:VEVENT
END:VCALENDAR
