BEGIN:VCALENDAR
VERSION:2.0
PRODID:-//Squarespace Inc/Squarespace 6//v6//EN
BEGIN:VEVENT
UID:5bac5a79f9619ad2880f7818@squarespace.com
DTSTAMP:20181105T124337Z
DTSTART:20181107T000000Z
DTEND:20181107T030000Z
SUMMARY:The Pacific Dawn
GEO:-37.786882;144.920323
LOCATION:Melbourne Cup
END:VEVENT
END:VCALENDAR
