BEGIN:VCALENDAR
VERSION:2.0
PRODID:-//Squarespace Inc/Squarespace 6//v6//EN
BEGIN:VEVENT
UID:5be01c41758d46ea7a44673a@squarespace.com
DTSTAMP:20181105T103513Z
DTSTART:20181215T230000Z
DTEND:20181216T003000Z
SUMMARY:Deck the Halls @ Club Noble
GEO:-37.977219;145.168903
LOCATION:Club Noble\, 46 - 56 Moodemere Street\, Noble Park\, VIC\, 3174\, 
 Australia
END:VEVENT
END:VCALENDAR
