BEGIN:VCALENDAR
VERSION:2.0
PRODID:-//Squarespace Inc/Squarespace 6//v6//EN
BEGIN:VEVENT
UID:5bc7e14eec212d301026808e@squarespace.com
DTSTAMP:20181105T105048Z
DTSTART:20181125T013000Z
DTEND:20181202T023000Z
SUMMARY:The Pacific Explorer\, P&amp\;O Cruises (Sydney-Wellington)
GEO:-33.86882;151.209296
LOCATION:Sydney
END:VEVENT
END:VCALENDAR
