BEGIN:VCALENDAR
VERSION:2.0
PRODID:-//Squarespace Inc/Squarespace 6//v6//EN
BEGIN:VEVENT
UID:5bac5a230d9297956ff247ae@squarespace.com
DTSTAMP:20181019T021300Z
DTSTART:20181027T033000Z
DTEND:20181104T033000Z
SUMMARY:The Pacific Aria\, P&amp\;O Cruises (Brisbane)
GEO:-27.469771;153.025124
LOCATION:P&O Cruises\, Brisbane 4000
END:VEVENT
END:VCALENDAR
